Workbook

Sheet Receipts and Payments
B1: CHACOMBE PARISH COUNCIL ACCOUNTS 2022/23
H2: RECEIPTS | T2: EXPENDITURE
A4: Trans No | B4: Date | C4: Chq No/BACS | D4: Receipt/Payee | E4: Inv No | F4: VAT No | G4: Details | H4: Misc | I4: Bank Interest | J4: VAT Refund | K4: Allotments | L4: Wayleave | M4: Precept | N4: Mowing Allowance | O4: Grant | P4: Bank | Q4: Gross | R4: Vat | S4: Net | T4: Lighting | U4: Lighting - Repairs & Maint | V4: Grass Cutting | W4: General Maintenance | X4: Dog Waste Bins | Y4: Clerk's Salary | Z4: Clerk's Expenses /Stationery | AA4: Chairman's Expenses | AB4: Training | AC4: Audit | AD4: Website | AE4: Information & Communication | AF4: Membership Fees | AG4: Insurance | AH4: Donations - Admin - S137 | AI4: Village Hall Hire | AJ4: Donations - Churchyard | AK4: Donations - Berry Close | AL4: Grass Cutting - Berry Close | AM4: Chacombe Chimes | AN4: Donations - Misc | AO4: Speed Reduction | AP4: Coronation Party
B5: 01.04.22 | D5: Opening balance | P5: 15721.23 | AQ5: =SUM(T5:AF5) -> 0 | AR5: =AQ5-S5 -> 0
A6: 1 | B6: 19.04.22 | C6: DD | D6: SWALEC | E6: 19 | F6: 553769603 | G6: Streetlighting 2 Mar to 1 Apr | P6: -30.84 | Q6: 30.84 | R6: 1.46 | S6: =Q6-R6 -> 29.38 | T6: 29.38 | AQ6: =SUM(T6:AP6) -> 29.38 | AR6: =AQ6-S6 -> 0 | AS6: =Q6-R6-S6 -> 0
A7: 2 | B7: 27.04.22 | C7: BACS | D7: Glasdon | E7: SI837058 | F7: 155847044 | G7: Enviropol Bins x 2 | P7: -1607.23 | Q7: 1607.23 | R7: 267.87 | S7: =Q7-R7 -> 1339.36 | W7: 1339.36 | AQ7: =SUM(T7:AP7) -> 1339.36 | AR7: =AQ7-S7 -> 0 | AS7: =Q7-R7-S7 -> 0
A8: 3 | B8: 27.04.22 | C8: BACS | D8: Chris Jarvis | G8: Removal and installation of 2 bins | P8: -120 | Q8: 120 | R8: 0 | S8: =Q8-R8 -> 120 | W8: 120 | AQ8: =SUM(T8:AP8) -> 120 | AR8: =AQ8-S8 -> 0 | AS8: =Q8-R8-S8 -> 0
A9: 4 | B9: 21.04.22 | C9: DD | D9: CPRE | G9: Annual subscription | P9: -36 | Q9: 36 | R9: 0 | S9: =Q9-R9 -> 36 | AF9: 36 | AQ9: =SUM(T9:AP9) -> 36 | AR9: =AQ9-S9 -> 0 | AS9: =Q9-R9-S9 -> 0
A10: 5 | B10: 27.04.22 | C10: BACS | D10: Kirsty Buttle | G10: Salary and allowance Apr | P10: -469.59 | Q10: 469.59 | R10: 0 | S10: =Q10-R10 -> 469.59 | Y10: =469.59-26 -> 443.59 | Z10: 26 | AQ10: =SUM(T10:AP10) -> 469.59 | AR10: =AQ10-S10 -> 0 | AS10: =Q10-R10-S10 -> 0
A11: 6 | B11: 27.04.22 | C11: BACS | D11: HMRC | G11: Tax Apr | P11: -1.4 | Q11: 1.4 | R11: 0 | S11: =Q11-R11 -> 1.4 | Y11: 1.4 | AQ11: =SUM(T11:AP11) -> 1.4 | AR11: =AQ11-S11 -> 0 | AS11: =Q11-R11-S11 -> 0
A12: 7 | B12: 28.04.22 | D12: HMRC | G12: VAT refund | J12: 1464.22 | P12: 1464.22 | AQ12: =SUM(T12:AP12) -> 0 | AR12: =AQ12-S12 -> 0 | AS12: =Q12-R12-S12 -> 0
A13: 8 | B13: 28.04.22 | D13: WNC | E13: Precept | G13: Precept | M13: 9000 | P13: 9000 | AQ13: =SUM(T13:AP13) -> 0 | AR13: =AQ13-S13 -> 0 | AS13: =Q13-R13-S13 -> 0
A14: 9 | B14: 18.05.22 | C14: DD | D14: SWALEC | G14: Streetlighting 2 Apr to 3 May | P14: -31.64 | Q14: 31.64 | R14: 1.49 | S14: =Q14-R14 -> 30.15 | T14: 30.15 | AQ14: =SUM(T14:AP14) -> 30.15 | AR14: =AQ14-S14 -> 0 | AS14: =Q14-R14-S14 -> 0
A15: 10 | B15: 30.05.22 | C15: BACS | D15: Kirsty Buttle | F15: 639237322 (£1.33) | G15: Reimbursement - One Drive, SIM, Stationery | P15: -21.53 | Q15: 21.53 | R15: 3.59 | S15: =Q15-R15 -> 17.94 | Z15: 17.94 | AQ15: =SUM(T15:AP15) -> 17.94 | AR15: =AQ15-S15 -> 0 | AS15: =Q15-R15-S15 -> 0
A16: 11 | B16: 30.05.22 | C16: BACS | D16: Andrew Taylor | G16: Reimbursement - APM refreshments | P16: -18.7 | Q16: 18.7 | R16: 3.11 | S16: =Q16-R16 -> 15.59 | AA16: 15.59 | AQ16: =SUM(T16:AP16) -> 15.59 | AR16: =AQ16-S16 -> 0 | AS16: =Q16-R16-S16 -> 0
A17: 12 | B17: 30.05.22 | C17: BACS | D17: Chris Jarvis | E17: Bench 1 | G17: Fitting of bench | P17: -110 | Q17: 110 | R17: 0 | S17: =Q17-R17 -> 110 | W17: 110 | AQ17: =SUM(T17:AP17) -> 110 | AR17: =AQ17-S17 -> 0 | AS17: =Q17-R17-S17 -> 0
A18: 13 | B18: 30.05.22 | C18: BACS | D18: Kirsty Buttle | G18: Salary and office May | P18: -469.39 | Q18: 469.39 | R18: 0 | S18: =Q18-R18 -> 469.39 | Y18: 443.39 | Z18: 26 | AQ18: =SUM(T18:AP18) -> 469.39 | AR18: =AQ18-S18 -> 0 | AS18: =Q18-R18-S18 -> 0
A19: 14 | B19: 30.05.22 | C19: BACS | D19: HMRC | G19: Tax May | P19: -1.6 | Q19: 1.6 | R19: 0 | S19: =Q19-R19 -> 1.6 | Y19: 1.6 | AQ19: =SUM(T19:AP19) -> 1.6 | AR19: =AQ19-S19 -> 0 | AS19: =Q19-R19-S19 -> 0
A20: 15 | B20: 30.05.22 | C20: BACS | D20: Glasdon | E20: SI839125 | F20: 155847044 | G20: Phoenix Jubilee Seat | P20: -1216.64 | Q20: 1216.64 | R20: 202.77 | S20: =Q20-R20 -> 1013.87 | W20: 1013.87 | AQ20: =SUM(T20:AP20) -> 1013.87 | AR20: =AQ20-S20 -> 0 | AS20: =Q20-R20-S20 -> 0
A21: 16 | B21: 06.06.22 | C21: BACS | D21: Gallagher | E21: 515474030 | G21: Berry Close Insurance | P21: -380.75 | Q21: 380.75 | R21: 0 | S21: =Q21-R21 -> 380.75 | AK21: 380.75 | AQ21: =SUM(T21:AP21) -> 380.75 | AR21: =AQ21-S21 -> 0 | AS21: =Q21-R21-S21 -> 0
A22: 17 | B22: 30.05.22 | C22: BACS | D22: BHIB | G22: Parish Insurance - 3 year agreement | P22: -421.92 | Q22: 421.92 | R22: 0 | S22: =Q22-R22 -> 421.92 | AG22: 421.92 | AQ22: =SUM(T22:AP22) -> 421.92 | AR22: =AQ22-S22 -> 0 | AS22: =Q22-R22-S22 -> 0
A23: 18 | B23: 07.06.22 | D23: National Lottery Fund | G23: Grant re defibrillator | O23: 2270 | P23: 2270 | AQ23: =SUM(T23:AP23) -> 0 | AR23: =AQ23-S23 -> 0 | AS23: =Q23-R23-S23 -> 0
A24: 19 | B24: 09.06.22 | C24: DD | D24: ICO | G24: Data Protection Fee | P24: -35 | Q24: 35 | R24: 0 | S24: =Q24-R24 -> 35 | AF24: 35 | AQ24: =SUM(T24:AP24) -> 35 | AR24: =AQ24-S24 -> 0 | AS24: =Q24-R24-S24 -> 0
A25: 20 | B25: 09.06.22 | C25: BACS | D25: Chacombe Village Hall | E25: 2022-05 | G25: Hall hire Oct 21 to May 22 | P25: -96 | Q25: 96 | R25: 0 | S25: =Q25-R25 -> 96 | AI25: 96 | AQ25: =SUM(T25:AP25) -> 96 | AR25: =AQ25-S25 -> 0 | AS25: =Q25-R25-S25 -> 0
A26: 21 | B26: 09.06.22 | C26: BACS | D26: Complete Ground Management Ltd | E26: 7633 | F26: 119495544 | G26: Grass cutting 30th and 31st May | P26: -240 | Q26: 240 | R26: 40 | S26: =Q26-R26 -> 200 | V26: 130 | AL26: 70 | AQ26: =SUM(T26:AP26) -> 200 | AR26: =AQ26-S26 -> 0 | AS26: =Q26-R26-S26 -> 0
A27: 22 | B27: 09.06.22 | C27: BACS | D27: Kirsty Buttle | G27: Salary and office June | P27: -469.59 | Q27: 469.59 | R27: 0 | S27: =Q27-R27 -> 469.59 | Y27: =469.59-26 -> 443.59 | Z27: 26 | AQ27: =SUM(T27:AP27) -> 469.59 | AR27: =AQ27-S27 -> 0 | AS27: =Q27-R27-S27 -> 0
A28: 23 | B28: 09.06.22 | C28: BACS | D28: HMRC | G28: Tax June | P28: -1.4 | Q28: 1.4 | R28: 0 | S28: =Q28-R28 -> 1.4 | Y28: 1.4 | AQ28: =SUM(T28:AP28) -> 1.4 | AR28: =AQ28-S28 -> 0 | AS28: =Q28-R28-S28 -> 0
A29: 24 | B29: 16.06.22 | C29: DD | D29: SWALEC | E29: 0021 | F29: 553769603 | G29: Streetlighting 4 May to 1 Jun | P29: -29.27 | Q29: 29.27 | R29: 1.39 | S29: =Q29-R29 -> 27.88 | T29: 27.88 | AQ29: =SUM(T29:AP29) -> 27.88 | AR29: =AQ29-S29 -> 0 | AS29: =Q29-R29-S29 -> 0
A30: 25 | B30: 01.08.22 | C30: BACS | D30: NCALC | E30: INV-1903 | F30: 414891094 | G30: Annual subscription, Internal audit and DPO | P30: -578.09 | Q30: 578.09 | R30: 40 | S30: =Q30-R30 -> 538.09 | AC30: 190 | AF30: =538.09-190 -> 348.09 | AQ30: =SUM(T30:AP30) -> 538.09 | AR30: =AQ30-S30 -> 0 | AS30: =Q30-R30-S30 -> 0
A31: 26 | B31: 30.06.22 | D31: Unity Bank | G31: Bank charges | P31: -18 | Q31: 18 | R31: 0 | S31: =Q31-R31 -> 18 | AF31: 18 | AQ31: =SUM(T31:AP31) -> 18 | AR31: =AQ31-S31 -> 0 | AS31: =Q31-R31-S31 -> 0
A32: 27 | B32: 01.08.22 | C32: BACS | D32: SNAST | G32: Neighbourhood watch | P32: -25 | Q32: 25 | R32: 0 | S32: =Q32-R32 -> 25 | AF32: 25 | AQ32: =SUM(T32:AP32) -> 25 | AR32: =AQ32-S32 -> 0 | AS32: =Q32-R32-S32 -> 0
A33: 28 | B33: 01.08.22 | C33: BACS | D33: Complete Ground Management Ltd | E33: 7716 | F33: 119495544 | G33: Grass cutting 14th and 30th June | P33: -396 | Q33: 396 | R33: 66 | S33: =Q33-R33 -> 330 | V33: 260 | AL33: 70 | AQ33: =SUM(T33:AP33) -> 330 | AR33: =AQ33-S33 -> 0 | AS33: =Q33-R33-S33 -> 0
A34: 29 | B34: 18.07.22 | C34: DD | D34: SWALEC | E34: 0022 | F34: 553769603 | G34: Streetlighting 2 Jun to 1 Jul | P34: -30.06 | Q34: 30.06 | R34: 1.43 | S34: =Q34-R34 -> 28.63 | T34: 28.63 | AQ34: =SUM(T34:AP34) -> 28.63 | AR34: =AQ34-S34 -> 0 | AS34: =Q34-R34-S34 -> 0
A35: 30 | B35: 19.07.22 | D35: Western Power | G35: Wayleave | L35: 59.39 | P35: 59.39 | AQ35: =SUM(T35:AP35) -> 0 | AR35: =AQ35-S35 -> 0 | AS35: =Q35-R35-S35 -> 0
A36: 31 | B36: 19.07.22 | C36: BACS | D36: Normanton Screenprint | E36: 13181 | F36: 289199293 | G36: Cut out cop x 2 | P36: -172.74 | Q36: 172.74 | R36: 28.79 | S36: =Q36-R36 -> 143.95 | AO36: 143.95 | AQ36: =SUM(T36:AP36) -> 143.95 | AR36: =AQ36-S36 -> 0 | AS36: =Q36-R36-S36 -> 0
A37: 32 | B37: 01.08.22 | C37: BACS | D37: Kirsty Buttle | G37: Salary and office July | P37: -469.39 | Q37: 469.39 | R37: 0 | S37: =Q37-R37 -> 469.39 | Y37: =469.39-26 -> 443.39 | Z37: 26 | AQ37: =SUM(T37:AP37) -> 469.39 | AR37: =AQ37-S37 -> 0 | AS37: =Q37-R37-S37 -> 0
A38: 33 | B38: 01.08.22 | C38: BACS | D38: HMRC | G38: Tax July | P38: -1.6 | Q38: 1.6 | R38: 0 | S38: =Q38-R38 -> 1.6 | Y38: 1.6 | AQ38: =SUM(T38:AP38) -> 1.6 | AR38: =AQ38-S38 -> 0 | AS38: =Q38-R38-S38 -> 0
A39: 34 | B39: 01.08.22 | C39: BACS | D39: Kirsty Buttle | G39: Reimbursement - Gloves, bin bags, stationery | P39: -12.88 | Q39: 12.88 | R39: 2.15 | S39: =Q39-R39 -> 10.73 | W39: =8.25 -> 8.25 | Z39: =0.82+1.66 -> 2.48 | AQ39: =SUM(T39:AP39) -> 10.73 | AR39: =AQ39-S39 -> 0 | AS39: =Q39-R39-S39 -> 0
A40: 35 | B40: 01.08.22 | C40: BACS | D40: PKF Littlejohn | E40: SB20220278 | F40: 440498250 | G40: Annual external audit | P40: -240 | Q40: 240 | R40: 40 | S40: =Q40-R40 -> 200 | AC40: 200 | AQ40: =SUM(T40:AP40) -> 200 | AR40: =AQ40-S40 -> 0 | AS40: =Q40-R40-S40 -> 0
A41: 36 | B41: 16.08.22 | C41: DD | D41: SWALEC | E41: 0023 | F41: 553769603 | G41: Streetlighting 2 Jul to 1 Aug 22 | P41: -30.84 | Q41: 30.84 | R41: 1.46 | S41: =Q41-R41 -> 29.38 | T41: 29.38 | AQ41: =SUM(T41:AP41) -> 29.38 | AR41: =AQ41-S41 -> 0 | AS41: =Q41-R41-S41 -> 0
...

Sheet Spend against budget
A1: Chacombe Parish Council
A2: Accounts April 22 to 31 Mar 23
B3: 22-23 budget | C3: Spend to date | D3: Remaining budget | E3: Projected EOY spend | F3: 2023-24 Budget
A4: Lighting | B4: 650 | C4: ='Receipts and Payments'!T94 -> 347.35 | D4: =B4-C4 -> 302.65 | E4: =232.83+120 -> 352.83 | F4: 1000 | H4: RESERVES | I4: 2022/23 | J4: 2023/24
A5: Lighting - Repairs & Maintenance | B5: 500 | C5: ='Receipts and Payments'!U94 -> 0 | D5: =B5-C5 -> 500 | E5: 0 | F5: 500 | H5: General Reserves | I5: =13081-2000 -> 11081 | J5: =14500-1170 -> 13330
A6: Grass cutting | B6: 2200 | C6: ='Receipts and Payments'!V94 -> 1240 | D6: =B6-C6 -> 960 | E6: 1500 | F6: 2800 | H6: External audit | I6: 350 | J6: 250
A7: General Maintenance | B7: 2700 | C7: ='Receipts and Payments'!W94 -> 2719.82 | D7: =B7-C7 -> -19.82 | E7: 2711.48 | F7: 1000 | H7: Committed funds to local footpaths/bridleways | I7: 500 | J7: 500
A8: Dog Waste Bins | B8: 1250 | C8: ='Receipts and Payments'!X94 -> 1461.55 | D8: =B8-C8 -> -211.55 | E8: 1250 | F8: 1350 | H8: Berry Close - notional work (Volunteers) | I8: 1050 | J8: 1050
A9: Clerk's Salary | B9: 5450 | C9: ='Receipts and Payments'!Y94 -> 5807.93 | D9: =B9-C9 -> -357.93 | E9: =3847.17+1960.76 -> 5807.93 | F9: 6200 | H9: Thorpe Road car park resurfacing | I9: 1000 | J9: 2000 | K9: *04/04/22 vired £300 from reserves to clerk's expenses
A10: Clerk's Expenses/ Stationery | B10: 400 | C10: ='Receipts and Payments'!Z94 -> 413.33 | D10: =B10-C10 -> -13.33 | E10: =286.43+104+25 -> 415.43 | F10: =425 -> 425 | H10: Website upgrade | J10: 140 | K10: *06/06/22 vired £2k from General reserves to General Maintenance
A11: Chairman's Expenses | B11: 250 | C11: ='Receipts and Payments'!AA94 -> 15.59 | D11: =B11-C11 -> 234.41 | E11: 15.59 | F11: 250 | I11: =SUM(I5:I10) -> 13981 | J11: =SUM(J5:J10) -> 17270
A12: Training | B12: 400 | C12: ='Receipts and Payments'!AB94 -> 0 | D12: =B12-C12 -> 400 | E12: 0 | F12: 400
A13: Audit | B13: 450 | C13: ='Receipts and Payments'!AC94 -> 390 | D13: =B13-C13 -> 60 | E13: 390 | F13: 200
A14: Website | B14: 60 | C14: ='Receipts and Payments'!AD94 -> 39.99 | D14: =B14-C14 -> 20.01 | E14: 39.99 | F14: 60 | H14: 14 to 16 cuts per year
A15: Information and Communication | B15: 100 | C15: ='Receipts and Payments'!AE94 -> 0 | D15: =B15-C15 -> 100 | E15: 100 | F15: 100
A16: Membership Fees | B16: 500 | C16: ='Receipts and Payments'!AF94 -> 516.09 | D16: =B16-C16 -> -16.09 | E16: 480.09 | F16: 541
A17: Insurance | B17: 545 | C17: ='Receipts and Payments'!AG94 -> 421.92 | D17: =B17-C17 -> 123.08 | E17: 421.92 | F17: 500
A18: Donations - Administration S137 | B18: 100 | C18: ='Receipts and Payments'!AH94 -> 2192.55 | D18: =B18-C18 -> -2092.55 | E18: =893.55+1427 -> 2320.55 | F18: 100 | H18: Opening balance 22-23 | I18: -15721.23
A19: Village Hall Hire | B19: 200 | C19: ='Receipts and Payments'!AI94 -> 143 | D19: =B19-C19 -> 57 | E19: 150 | F19: 150 | H19: Projected spend 22-23 | I19: =E28 -> 19381.56
A20: Donations - Berry Close | B20: 700 | C20: ='Receipts and Payments'!AK94 -> 380.75 | D20: =B20-C20 -> 319.25 | E20: 380.75 | F20: 1100 | H20: Projected income 22-23 | I20: =-E39 -> -22002.61
A21: Grass cutting - Berry Close | B21: 1000 | C21: ='Receipts and Payments'!AL94 -> 490 | D21: =B21-C21 -> 510 | E21: 560 | F21: 1100 | H21: Projected end of year balance | I21: =I18+I19+I20 -> -18342.28
A22: Chacombe Chimes | B22: 950 | C22: ='Receipts and Payments'!AM94 -> 935 | D22: =B22-C22 -> 15 | E22: 950 | F22: 950 | H22: Budget requirement for 23-24 | I22: =F28 -> 20876
A23: Misc Donations | B23: 100 | C23: ='Receipts and Payments'!AN94 -> 50 | D23: =B23-C23 -> 50 | E23: 50 | F23: 100 | H23: Reserves required for 23-24 | I23: =J11 -> 17270
A24: Speed Reduction | B24: 0 | C24: ='Receipts and Payments'!AO94 -> 143.95 | D24: =B24-C24 -> -143.95 | E24: 143.95 | F24: 0 | H24: Expected income 23-24 | I24: =-F39 -> -1803.39
A25: Coronation Party | B25: 0 | C25: ='Receipts and Payments'!AP94 -> 1206 | D25: =B25-C25 -> -1206 | F25: 750 | H25: Precept demand for 23-24 | I25: =I21+I22+I23+I24 -> 18000.33
B26: 16205 | C26: =SUM(C4:C25) -> 18914.82 | D26: =B26-C26 -> -2709.82 | E26: =SUM(E4:E22) -> 17846.56 | F26: =SUM(F4:F25) -> 19576
A27: Total VAT Paid | C27: ='Receipts and Payments'!R94 -> 1950.31 | E27: =1250+285 -> 1535 | F27: 1300
A28: Total Spend to date | C28: =SUM(C26:C27) -> 20865.13 | E28: =SUM(E26:E27) -> 19381.56 | F28: =SUM(F26:F27) -> 20876
C30: Recd to date | D30: Recpts outstanding | E30: Projected EOY Income | F30: 2023-24 Income
A31: Misc | B31: 0 | C31: ='Receipts and Payments'!H94 -> 0 | D31: =B31-C31 -> 0
A32: Bank Interest | B32: 0 | C32: ='Receipts and Payments'!I94 -> 130.13 | D32: =B32-C32 -> -130.13
A33: VAT Refund | B33: 1880 | C33: ='Receipts and Payments'!J94 -> 1464.22 | D33: =B33-C33 -> 415.78 | E33: 1464.22 | F33: 1535
A34: Allotments | B34: 50 | C34: ='Receipts and Payments'!K94 -> 50 | D34: =B34-C34 -> 0 | E34: 50 | F34: 50
A35: Wayleave | B35: 60 | C35: ='Receipts and Payments'!L94 -> 59.39 | D35: =B35-C35 -> 0.61 | E35: 59.39 | F35: 59.39
A36: Precept | B36: 18000 | C36: ='Receipts and Payments'!M94 -> 18000 | D36: =B36-C36 -> 0 | E36: 18000
A37: Mowing Allowance | B37: 159 | C37: ='Receipts and Payments'!N94 -> 0 | D37: =B37-C37 -> 159 | E37: 159 | F37: 159
A38: Grants | B38: 0 | C38: ='Receipts and Payments'!O94 -> 2270 | D38: =B38-C38 -> -2270 | E38: 2270 | F38: 0
B39: =SUM(B31:B38) -> 20149 | C39: =SUM(C31:C38) -> 21973.74 | D39: =SUM(D31:D38) -> -1824.74 | E39: =SUM(E31:E38) -> 22002.61 | F39: =SUM(F31:F38) -> 1803.39
